Workbook

Sheet 5 КЛАСС 
A3: Протокол школьного этапа этапа всероссийской олимпиады школьников по литературе в 2026-2027 уч.г., 5 класс
A5: Количество участников: 9
A6: Дата проведения: 29.09.2026
A7: Место проведения: г. Чебоксары, МБОУ «СОШ № 36»
A8: Председатель жюри: Богданова Наталия Владимировна, учитель
A9: Члены жюри: Беляева Ирина Андреевна, учитель
A10: Викентьева Елена Анатольевна, учитель
A11: Михайлова Инна Витальевна, учитель
A12: Луговникова Светлана Германовна, заместитель директора
A15: № | B15: Шифр | C15: Город | D15: Наименование ОО (сокращенное наименование по Уставу) | E15: Класс, в котором обучается | F15: Класс, за который выступает | G15: Ф.И.О. наставника (полностью) | H15: Задание 1. | I15: Задание 2 | J15: Задание 3 | K15: Задание 4 | L15: Задание 5 | M15: Задание 6 | N15: Задание 7 | O15: Задание 8 | P15: Задание 9 | Q15: Задание 10 | R15: ИТОГО БАЛЛОВ | S15: МАКСИМАЛЬНЫЙ БАЛЛ | T15: Эффективность участия (%) | U15: Результат (победитель/призер/ участник)
A16: 1 | B16: Л-5-6 | C16: г. Чебоксары | D16: МБОУ "СОШ № 36" г. Чебоксары | E16: 5 | F16: 5 | G16: Викентьева Елена Анатольевна | H16: 5 | I16: 2 | J16: 0 | K16: 0 | L16: 1 | M16: 0 | N16: 1 | O16: 1 | P16: 1 | Q16: 7 | R16: =SUM(H16:Q16) -> 18 | S16: 40 | T16: =(R16/S16)*100 -> 45 | U16: участник
A17: 2 | B17: Л-5-2 | C17: г. Чебоксары | D17: МБОУ "СОШ № 36" г. Чебоксары | E17: 5 | F17: 5 | G17: Викентьева Елена Анатольевна | H17: 2 | I17: 2 | J17: 0 | K17: 0 | L17: 1 | M17: 0 | N17: 1 | O17: 1 | P17: 1 | Q17: 6 | R17: =SUM(H17:Q17) -> 14 | S17: 40 | T17: =(R17/S17)*100 -> 35 | U17: участник
A18: 3 | B18: Л-5-7 | C18: г. Чебоксары | D18: МБОУ "СОШ № 36" г. Чебоксары | E18: 5 | F18: 5 | G18: Беляева Ирина Андреевна | H18: 3 | I18: 1 | J18: 0 | K18: 0 | L18: 1 | M18: 0 | N18: 1 | O18: 1 | P18: 1 | Q18: 5 | R18: =SUM(H18:Q18) -> 13 | S18: 40 | T18: =(R18/S18)*100 -> 32.5 | U18: участник
A19: 4 | B19: Л-5-4 | C19: г. Чебоксары | D19: МБОУ "СОШ № 36" г. Чебоксары | E19: 5 | F19: 5 | G19: Викентьева Елена Анатольевна | H19: 1 | I19: 1 | J19: 0 | K19: 0 | L19: 1 | M19: 0 | N19: 1 | O19: 1 | P19: 1 | Q19: 6 | R19: =SUM(H19:Q19) -> 12 | S19: 40 | T19: =(R19/S19)*100 -> 30 | U19: участник
A20: 5 | B20: Л-5-5 | C20: г. Чебоксары | D20: МБОУ "СОШ № 36" г. Чебоксары | E20: 5 | F20: 5 | G20: Викентьева Елена Анатольевна | H20: 5 | I20: 1 | J20: 0 | K20: 0 | L20: 1 | M20: 0 | N20: 1 | O20: 1 | P20: 1 | Q20: 0 | R20: =SUM(H20:Q20) -> 10 | S20: 40 | T20: =(R20/S20)*100 -> 25 | U20: участник
A21: 6 | B21: Л-5-3 | C21: г. Чебоксары | D21: МБОУ "СОШ № 36" г. Чебоксары | E21: 5 | F21: 5 | G21: Викентьева Елена Анатольевна | H21: 5 | I21: 0 | J21: 0 | K21: 1 | L21: 1 | M21: 0 | N21: 0 | O21: 1 | P21: 1 | Q21: 0 | R21: =SUM(H21:Q21) -> 9 | S21: 40 | T21: =(R21/S21)*100 -> 22.5 | U21: участник
A22: 7 | B22: Л-5-8 | C22: г. Чебоксары | D22: МБОУ "СОШ № 36" г. Чебоксары | E22: 5 | F22: 5 | G22: Беляева Ирина Андреевна | H22: 5 | I22: 0 | J22: 0 | K22: 0 | L22: 1 | M22: 0 | N22: 1 | O22: 1 | P22: 1 | Q22: 0 | R22: =SUM(H22:Q22) -> 9 | S22: 40 | T22: =(R22/S22)*100 -> 22.5 | U22: участник
A23: 8 | B23: Л-5-9 | C23: г. Чебоксары | D23: МБОУ "СОШ № 36" г. Чебоксары | E23: 5 | F23: 5 | G23: Беляева Ирина Андреевна | H23: 0 | I23: 3 | J23: 0 | K23: 0 | L23: 0 | M23: 0 | N23: 1 | O23: 0 | P23: 1 | Q23: 0 | R23: =SUM(H23:Q23) -> 5 | S23: 40 | T23: =(R23/S23)*100 -> 12.5 | U23: участник
A24: 9 | B24: Л-5-1 | C24: г. Чебоксары | D24: МБОУ "СОШ № 36" г. Чебоксары | E24: 5 | F24: 5 | G24: Беляева Ирина Андреевна | H24: 0 | I24: 0 | J24: 0 | K24: 1 | L24: 0 | M24: 0 | N24: 0 | O24: 1 | P24: 1 | Q24: 0 | R24: =SUM(H24:Q24) -> 3 | S24: 40 | T24: =(R24/S24)*100 -> 7.5 | U24: участник
B28: Председатель жюри: | C28: ______________ | D28: Богданова Н.В.
B29: Члены жюри: | C29: _______________ | D29: Беляева И.А.
C30: ________________ | D30: Викентьева Е.А.
C31: ________________ | D31: Михайлова И.В.
C32: ________________ | D32: Луговникова С.Г.

Sheet 6 КЛАСС 
A3: Протокол школьного этапа этапа всероссийской олимпиады школьников по литературе в 2026-2027 уч.г., 6 класс
A5: Количество участников: 13
A6: Дата проведения: 29.09.2026
A7: Место проведения: г. Чебоксары, МБОУ «СОШ № 36»
A8: Председатель жюри: Богданова Наталия Владимировна, учитель
A9: Члены жюри: Беляева Ирина Андреевна, учитель
A10: Викентьева Елена Анатольевна, учитель
A11: Михайлова Инна Витальевна, учитель
A12: Луговникова Светлана Германовна, заместитель директора
A15: № | B15: Шифр | C15: Город | D15: Наименование ОО (сокращенное наименование по Уставу) | E15: Класс, в котором обучается | F15: Класс, за который выступает | G15: Ф.И.О. наставника (полностью) | H15: Задание 1 | I15: Задание 2 | J15: Задание 3 | K15: Задание 4 | L15: Задание 5 | M15: Задание 6 | N15: Задание 7 | O15: Задание 8 | P15: Задание 9 | Q15: Задание 10 | R15: ИТОГО БАЛЛОВ | S15: МАКСИМАЛЬНЫЙ БАЛЛ | T15: Эффективность участия (%) | U15: Результат (победитель/призер/ участник)
A16: 1 | B16: Л-6-2 | C16: г. Чебоксары | D16: МБОУ "СОШ № 36" г. Чебоксары | E16: 6 | F16: 6 | G16: Кирзенкова Юлия Алексеевна | H16: 5 | I16: 1 | J16: 1 | K16: 1 | L16: 1 | M16: 0 | N16: 1 | O16: 1 | P16: 1 | Q16: 17 | R16: =SUM(H16:Q16) -> 29 | S16: 40 | T16: =(R16/S16)*100 -> 72.5 | U16: победитель
A17: 2 | B17: Л-6-1 | C17: г. Чебоксары | D17: МБОУ "СОШ № 36" г. Чебоксары | E17: 6 | F17: 6 | G17: Кирзенкова Юлия Алексеевна | H17: 3 | I17: 0 | J17: 0 | K17: 0 | L17: 1 | M17: 0 | N17: 1 | O17: 1 | P17: 1 | Q17: 21 | R17: =SUM(H17:Q17) -> 28 | S17: 40 | T17: =(R17/S17)*100 -> 70 | U17: призер
A18: 3 | B18: Л-6-4 | C18: г. Чебоксары | D18: МБОУ "СОШ № 36" г. Чебоксары | E18: 6 | F18: 6 | G18: Кирзенкова Юлия Алексеевна | H18: 5 | I18: 1 | J18: 0 | K18: 0 | L18: 0 | M18: 0 | N18: 0 | O18: 1 | P18: 0 | Q18: 9 | R18: =SUM(H18:Q18) -> 16 | S18: 40 | T18: =(R18/S18)*100 -> 40 | U18: участник
A19: 4 | B19: Л-6-6 | C19: г. Чебоксары | D19: МБОУ "СОШ № 36" г. Чебоксары | E19: 6 | F19: 6 | G19: Кирзенкова Юлия Алексеевна | H19: 3 | I19: 0 | J19: 1 | K19: 0 | L19: 1 | M19: 0 | N19: 1 | O19: 1 | P19: 1 | Q19: 6 | R19: =SUM(H19:Q19) -> 14 | S19: 40 | T19: =(R19/S19)*100 -> 35 | U19: участник
A20: 5 | B20: Л-6-11 | C20: г. Чебоксары | D20: МБОУ "СОШ № 36" г. Чебоксары | E20: 6 | F20: 6 | G20: Кирзенкова Юлия Алексеевна | H20: 3 | I20: 1 | J20: 1 | K20: 0 | L20: 1 | M20: 0 | N20: 1 | O20: 1 | P20: 1 | Q20: 5 | R20: =SUM(H20:Q20) -> 14 | S20: 40 | T20: =(R20/S20)*100 -> 35 | U20: участник
A21: 6 | B21: Л-6-3 | C21: г. Чебоксары | D21: МБОУ "СОШ № 36" г. Чебоксары | E21: 6 | F21: 6 | G21: Михайлова Инна Витальевна | H21: 5 | I21: 0 | J21: 0 | K21: 1 | L21: 1 | M21: 0 | N21: 0 | O21: 1 | P21: 1 | Q21: 4 | R21: =SUM(H21:Q21) -> 13 | S21: 40 | T21: =(R21/S21)*100 -> 32.5 | U21: участник
A22: 7 | B22: Л-6-8 | C22: г. Чебоксары | D22: МБОУ "СОШ № 36" г. Чебоксары | E22: 6 | F22: 6 | G22: Кирзенкова Юлия Алексеевна | H22: 5 | I22: 0 | J22: 0 | K22: 1 | L22: 1 | M22: 0 | N22: 0 | O22: 1 | P22: 1 | Q22: 0 | R22: =SUM(H22:Q22) -> 9 | S22: 40 | T22: =(R22/S22)*100 -> 22.5 | U22: участник
A23: 8 | B23: Л-6-5 | C23: г. Чебоксары | D23: МБОУ "СОШ № 36" г. Чебоксары | E23: 6 | F23: 6 | G23: Кирзенкова Юлия Алексеевна | H23: 2 | I23: 0 | J23: 0 | K23: 0 | L23: 1 | M23: 0 | N23: 0 | O23: 1 | P23: 0 | Q23: 3 | R23: =SUM(H23:Q23) -> 7 | S23: 40 | T23: =(R23/S23)*100 -> 17.5 | U23: участник
A24: 9 | B24: Л-6-7 | C24: г. Чебоксары | D24: МБОУ "СОШ № 36" г. Чебоксары | E24: 6 | F24: 6 | G24: Кирзенкова Юлия Алексеевна | H24: 1 | I24: 0 | J24: 0 | K24: 0 | L24: 0 | M24: 0 | N24: 0 | O24: 1 | P24: 0 | Q24: 4 | R24: =SUM(H24:Q24) -> 6 | S24: 40 | T24: =(R24/S24)*100 -> 15 | U24: участник
A25: 10 | B25: Л-6-10 | C25: г. Чебоксары | D25: МБОУ "СОШ № 36" г. Чебоксары | E25: 6 | F25: 6 | G25: Кирзенкова Юлия Алексеевна | H25: 2 | I25: 0 | J25: 0 | K25: 1 | L25: 1 | M25: 0 | N25: 1 | O25: 1 | P25: 0 | Q25: 0 | R25: =SUM(H25:Q25) -> 6 | S25: 40 | T25: =(R25/S25)*100 -> 15 | U25: участник
A26: 11 | B26: Л-6-12 | C26: г. Чебоксары | D26: МБОУ "СОШ № 36" г. Чебоксары | E26: 6 | F26: 6 | G26: Михайлова Инна Витальевна | H26: 0 | I26: 0 | J26: 0 | K26: 0 | L26: 1 | M26: 1 | N26: 1 | O26: 1 | P26: 0 | Q26: 2 | R26: =SUM(H26:Q26) -> 6 | S26: 40 | T26: =(R26/S26)*100 -> 15 | U26: участник
A27: 12 | B27: Л-6-13 | C27: г. Чебоксары | D27: МБОУ "СОШ № 36" г. Чебоксары | E27: 6 | F27: 6 | G27: Михайлова Инна Витальевна | H27: 0 | I27: 0 | J27: 1 | K27: 1 | L27: 0 | M27: 0 | N27: 1 | O27: 1 | P27: 1 | Q27: 0 | R27: =SUM(H27:Q27) -> 5 | S27: 40 | T27: =(R27/S27)*100 -> 12.5 | U27: участник
A28: 13 | B28: Л-6-9 | C28: г. Чебоксары | D28: МБОУ "СОШ № 36" г. Чебоксары | E28: 6 | F28: 6 | G28: Кирзенкова Юлия Алексеевна | H28: 0 | I28: 0 | J28: 0 | K28: 0 | L28: 0 | M28: 0 | N28: 1 | O28: 1 | P28: 1 | Q28: 0 | R28: =SUM(H28:Q28) -> 3 | S28: 40 | T28: =(R28/S28)*100 -> 7.5 | U28: участник
B32: Председатель жюри: | C32: ______________ | D32: Богданова Н.В.
B33: Члены жюри: | C33: _______________ | D33: Беляева И.А.
C34: ________________ | D34: Викентьева Е.А.
C35: ________________ | D35: Михайлова И.В.
C36: ________________ | D36: Луговникова С.Г.

Sheet 7 КЛАСС
A3: Протокол школьного этапа этапа всероссийской олимпиады школьников по литературе в 2026-2027 уч.г., 7 класс
A5: Количество участников: 12
A6: Дата проведения: 29.09.2026
A7: Место проведения: г. Чебоксары, МБОУ «СОШ № 36»
A8: Председатель жюри: Богданова Наталия Владимировна, учитель
A9: Члены жюри: Беляева Ирина Андреевна, учитель
A10: Викентьева Елена Анатольевна, учитель
A11: Михайлова Инна Витальевна, учитель
A12: Луговникова Светлана Германовна, заместитель директора
A16: № | B16: Шифр | C16: Город | D16: Наименование ОО (сокращенное наименование по Уставу) | E16: Класс, в котором обучается | F16: Класс, за который выступает | G16: Ф.И.О. наставника (полностью) | H16: Задание 1 | I16: Задание 2 | J16: Задание 3 | K16: Задание 4 | L16: Задание 5 | M16: Задание 6 | N16: Задание 7 | O16: Задание 8 | P16: Задание 9 | Q16: Задание 10 | R16: Задание 11 | S16: ИТОГО БАЛЛОВ | T16: МАКСИМАЛЬНЫЙ БАЛЛ | U16: Эффективность участия (%) | V16: Результат (победитель/призер/ участник)
A17: 1 | B17: Л-7-12 | C17: г. Чебоксары | D17: МБОУ "СОШ № 36" г. Чебоксары | E17: 7 | F17: 7 | G17: Богданова Наталия Владимировна | H17: 5 | I17: 1 | J17: 1 | K17: 1 | L17: 1 | M17: 0 | N17: 1 | O17: 1 | P17: 1 | Q17: 0 | R17: 23 | S17: =SUM(H17:R17) -> 35 | T17: 39 | U17: =(S17/T17)*100 -> 89.74359 | V17: победитель
A18: 2 | B18: Л-7-7 | C18: г. Чебоксары | D18: МБОУ "СОШ № 36" г. Чебоксары | E18: 7 | F18: 7 | G18: Богданова Наталия Владимировна | H18: 5 | I18: 1 | J18: 1 | K18: 1 | L18: 1 | M18: 0 | N18: 1 | O18: 1 | P18: 1 | Q18: 1 | R18: 21 | S18: =SUM(H18:R18) -> 34 | T18: 39 | U18: =(S18/T18)*100 -> 87.179487 | V18: призер
A19: 3 | B19: Л-7-4 | C19: г. Чебоксары | D19: МБОУ "СОШ № 36" г. Чебоксары | E19: 7 | F19: 7 | G19: Богданова Наталия Владимировна | H19: 3 | I19: 1 | J19: 1 | K19: 1 | L19: 1 | M19: 0 | N19: 1 | O19: 1 | P19: 1 | Q19: 0 | R19: 11 | S19: =SUM(H19:R19) -> 21 | T19: 39 | U19: =(S19/T19)*100 -> 53.846154 | V19: призёр
A20: 4 | B20: Л-7-11 | C20: г. Чебоксары | D20: МБОУ "СОШ № 36" г. Чебоксары | E20: 7 | F20: 7 | G20: Богданова Наталия Владимировна | H20: 5 | I20: 1 | J20: 1 | K20: 1 | L20: 1 | M20: 0 | N20: 1 | O20: 1 | P20: 1 | Q20: 0 | R20: 8 | S20: =SUM(H20:R20) -> 20 | T20: 39 | U20: =(S20/T20)*100 -> 51.282051 | V20: участник
A21: 5 | B21: Л-7-6 | C21: г. Чебоксары | D21: МБОУ "СОШ № 36" г. Чебоксары | E21: 7 | F21: 7 | G21: Богданова Наталия Владимировна | H21: 5 | I21: 1 | J21: 1 | K21: 0 | L21: 1 | M21: 0 | N21: 1 | O21: 1 | P21: 1 | Q21: 1 | R21: 7 | S21: =SUM(H21:R21) -> 19 | T21: 39 | U21: =(S21/T21)*100 -> 48.717949 | V21: участник
A22: 6 | B22: Л-7-3 | C22: г. Чебоксары | D22: МБОУ "СОШ № 36" г. Чебоксары | E22: 7 | F22: 7 | G22: Богданова Наталия Владимировна | H22: 5 | I22: 1 | J22: 1 | K22: 0 | L22: 0 | M22: 0 | N22: 0 | O22: 1 | P22: 0 | Q22: 0 | R22: 10 | S22: =SUM(H22:R22) -> 18 | T22: 39 | U22: =(S22/T22)*100 -> 46.153846 | V22: участник
A23: 7 | B23: Л-7-2 | C23: г. Чебоксары | D23: МБОУ "СОШ № 36" г. Чебоксары | E23: 7 | F23: 7 | G23: Беляева Ирина Андреевна | H23: 1 | I23: 1 | J23: 1 | K23: 0 | L23: 1 | M23: 0 | N23: 1 | O23: 0 | P23: 1 | Q23: 0 | R23: 8 | S23: =SUM(H23:R23) -> 14 | T23: 39 | U23: =(S23/T23)*100 -> 35.897436 | V23: участник
A24: 8 | B24: Л-7-5 | C24: г. Чебоксары | D24: МБОУ "СОШ № 36" г. Чебоксары | E24: 7 | F24: 7 | G24: Богданова Наталия Владимировна | H24: 5 | I24: 1 | J24: 1 | K24: 0 | L24: 0 | M24: 0 | N24: 0 | O24: 1 | P24: 0 | Q24: 0 | R24: 6 | S24: =SUM(H24:R24) -> 14 | T24: 39 | U24: =(S24/T24)*100 -> 35.897436 | V24: участник
A25: 9 | B25: Л-7-8 | C25: г. Чебоксары | D25: МБОУ "СОШ № 36" г. Чебоксары | E25: 7 | F25: 7 | G25: Богданова Наталия Владимировна | H25: 3 | I25: 1 | J25: 0 | K25: 0 | L25: 0 | M25: 0 | N25: 1 | O25: 0 | P25: 1 | Q25: 0 | R25: 7 | S25: =SUM(H25:R25) -> 13 | T25: 39 | U25: =(S25/T25)*100 -> 33.333333 | V25: участник
A26: 10 | B26: Л-7-10 | C26: г. Чебоксары | D26: МБОУ "СОШ № 36" г. Чебоксары | E26: 7 | F26: 7 | G26: Богданова Наталия Владимировна | H26: 3 | I26: 1 | J26: 1 | K26: 0 | L26: 1 | M26: 0 | N26: 1 | O26: 0 | P26: 1 | Q26: 0 | R26: 0 | S26: =SUM(H26:R26) -> 8 | T26: 39 | U26: =(S26/T26)*100 -> 20.512821 | V26: участник
A27: 11 | B27: Л-7-1 | C27: г. Чебоксары | D27: МБОУ "СОШ № 36" г. Чебоксары | E27: 7 | F27: 7 | G27: Беляева Ирина Андреевна | H27: 0 | I27: 0 | J27: 1 | K27: 0 | L27: 0 | M27: 0 | N27: 0 | O27: 0 | P27: 0 | Q27: 0 | R27: 4 | S27: =SUM(H27:R27) -> 5 | T27: 39 | U27: =(S27/T27)*100 -> 12.820513 | V27: участник
A28: 12 | B28: Л-7-9 | C28: г. Чебоксары | D28: МБОУ "СОШ № 36" г. Чебоксары | E28: 7 | F28: 7 | G28: Богданова Наталия Владимировна | H28: 0 | I28: 1 | J28: 1 | K28: 0 | L28: 0 | M28: 0 | N28: 1 | O28: 0 | P28: 1 | Q28: 0 | R28: 0 | S28: =SUM(H28:R28) -> 4 | T28: 39 | U28: =(S28/T28)*100 -> 10.25641 | V28: участник
B32: Председатель жюри: | C32: ______________ | D32: Богданова Н.В.
B33: Члены жюри: | C33: _______________ | D33: Беляева И.А.
C34: ________________ | D34: Викентьева Е.А.
C35: ________________ | D35: Михайлова И.В.
C36: ________________ | D36: Луговникова С.Г.

Sheet 8 КЛАСС 
A3: Протокол школьного этапа этапа всероссийской олимпиады школьников по литературе в 2026-2027 уч.г., 8 класс
A5: Количество участников: 4
A6: Дата проведения: 29.09.2026
A7: Место проведения: г. Чебоксары, МБОУ «СОШ № 36»
A8: Председатель жюри: Богданова Наталия Владимировна, учитель
A9: Члены жюри: Беляева Ирина Андреевна, учитель
A10: Викентьева Елена Анатольевна, учитель
A11: Михайлова Инна Витальевна, учитель
A12: Луговникова Светлана Германовна, заместитель директора
A15: № | B15: Шифр | C15: Город | D15: Наименование ОО (сокращенное наименование по Уставу) | E15: Класс, в котором обучается | F15: Класс, за который выступает | G15: Ф.И.О. наставника (полностью) | H15: ='7 КЛАСС'!H16 -> Задание 1 | I15: ='7 КЛАСС'!I16 -> Задание 2 | J15: ='7 КЛАСС'!J16 -> Задание 3 | K15: ='7 КЛАСС'!K16 -> Задание 4 | L15: ='7 КЛАСС'!L16 -> Задание 5 | M15: ='7 КЛАСС'!M16 -> Задание 6 | N15: ='7 КЛАСС'!N16 -> Задание 7 | O15: ='7 КЛАСС'!O16 -> Задание 8 | ... R15: ='7 КЛАСС'!R16 -> Задание 11 | S15: ИТОГО БАЛЛОВ | T15: МАКСИМАЛЬНЫЙ БАЛЛ | U15: Эффективность участия (%) | V15: Результат (победитель/призер/ участник)
A16: 1 | B16: Л-8-4 | C16: г. Чебоксары | D16: МБОУ "СОШ № 36" г. Чебоксары | E16: 8 | F16: 8 | G16: Викентьева Елена Анатольевна | H16: 2 | I16: 1 | J16: 1 | K16: 1 | L16: 1 | M16: 0 | N16: 1 | O16: 1 | P16: 1 | Q16: 0 | R16: 19 | S16: =SUM(H16:R16) -> 28 | T16: 39 | U16: =(S16/T16)*100 -> 71.794872 | V16: призер
A17: 2 | B17: Л-8-3 | C17: г. Чебоксары | D17: МБОУ "СОШ № 36" г. Чебоксары | E17: 8 | F17: 8 | G17: Викентьева Елена Анатольевна | H17: 2 | I17: 1 | J17: 1 | K17: 0 | L17: 0 | M17: 0 | N17: 1 | O17: 0 | P17: 1 | Q17: 0 | R17: 19 | S17: =SUM(H17:R17) -> 25 | T17: 39 | U17: =(S17/T17)*100 -> 64.102564 | V17: участник
A18: 3 | B18: Л-8-2 | C18: г. Чебоксары | D18: МБОУ "СОШ № 36" г. Чебоксары | E18: 8 | F18: 8 | G18: Беляева Ирина Андреевна | H18: 1 | I18: 1 | J18: 1 | K18: 0 | L18: 1 | M18: 1 | N18: 1 | O18: 0 | P18: 1 | Q18: 0 | R18: 12 | S18: =SUM(H18:R18) -> 19 | T18: 39 | U18: =(S18/T18)*100 -> 48.717949 | V18: участник
A19: 4 | B19: Л-8-1 | C19: г. Чебоксары | D19: МБОУ "СОШ № 36" г. Чебоксары | E19: 8 | F19: 8 | G19: Беляева Ирина Андреевна | H19: 0 | I19: 1 | J19: 1 | K19: 0 | L19: 1 | M19: 0 | N19: 1 | O19: 0 | P19: 1 | Q19: 0 | R19: 8 | S19: =SUM(H19:R19) -> 13 | T19: 39 | U19: =(S19/T19)*100 -> 33.333333 | V19: участник
B23: Председатель жюри: | C23: ______________ | D23: Богданова Н.В.
B24: Члены жюри: | C24: _______________ | D24: Беляева И.А.
C25: ________________ | D25: Викентьева Е.А.
C26: ________________ | D26: Михайлова И.В.
C27: ________________ | D27: Луговникова С.Г.

Sheet 9 КЛАСС
A3: Протокол школьного этапа этапа всероссийской олимпиады школьников по литеруре в 2026-2027 уч.г., 9 класс
A5: Количество участников: 3
A6: Дата проведения: 29.09.2026
A7: Место проведения: г. Чебоксары, МБОУ «СОШ № 36»
A8: Председатель жюри: Богданова Наталия Владимировна, учитель
A9: Члены жюри: Беляева Ирина Андреевна, учитель
A10: Викентьева Елена Анатольевна, учитель
A11: Михайлова Инна Витальевна, учитель
A12: Луговникова Светлана Германовна, заместитель директора
A15: № | B15: Шифр | C15: Город | D15: Наименование ОО (сокращенное наименование по Уставу) | E15: Класс, в котором обучается | F15: Класс, за который выступает | G15: Ф.И.О. наставника (полностью) | H15: Задание 1. | I15: Задание 2. | J15: ИТОГО БАЛЛОВ | K15: МАКСИМАЛЬНЫЙ БАЛЛ | L15: Эффективность участия (%) | M15: Результат (победитель/призер/ участник)
A16: 1 | B16: Л9-3 | C16: г. Чебоксары | D16: МБОУ "СОШ № 2" г. Чебоксары | E16: 9 | F16: 9 | G16: Викентьева Елена Анатольевна | H16: 23 | I16: 0 | J16: =SUM(H16:I16) -> 23 | K16: 60 | L16: =(J16/K16)*100 -> 38.333333 | M16: участник
A17: 2 | B17: Л9-2 | C17: г. Чебоксары | D17: МБОУ "СОШ № 2" г. Чебоксары | E17: 9 | F17: 9 | G17: Викентьева Елена Анатольевна | H17: 8 | I17: 0 | J17: =SUM(H17:I17) -> 8 | K17: 60 | L17: =(J17/K17)*100 -> 13.333333 | M17: участник
A18: 3 | B18: Л9-1 | C18: г. Чебоксары | D18: МБОУ "СОШ № 2" г. Чебоксары | E18: 9 | F18: 9 | G18: Богданова Наталия Владимировна | H18: 0 | I18: 0 | J18: 0 | K18: 60 | L18: 0 | M18: участник
B21: Председатель жюри: | C21: ______________ | D21: Богданова Н.В.
B22: Члены жюри: | C22: _______________ | D22: Беляева И.А.
C23: ________________ | D23: Викентьева Е.А.
C24: ________________ | D24: Михайлова И.В.
C25: ________________ | D25: Луговникова С.Г.

Sheet 10 КЛАСС
A3: Протокол школьного этапа этапа всероссийской олимпиады школьников по литературе в 2026-2027 уч.г., 10 класс
A5: Количество участников: 4
A6: Дата проведения: 29.09.2026
A7: Место проведения: г. Чебоксары, МБОУ «СОШ № 36»
A8: Председатель жюри: Богданова Наталия Владимировна, учитель
A9: Члены жюри: Беляева Ирина Андреевна, учитель
A10: Викентьева Елена Анатольевна, учитель
A11: Михайлова Инна Витальевна, учитель
A12: Луговникова Светлана Германовна, заместитель директора
A15: № | B15: Шифр | C15: Город | D15: Наименование ОО (сокращенное наименование по Уставу) | E15: Класс, в котором обучается | F15: Класс, за который выступает | G15: Ф.И.О. наставника (полностью) | H15: Задание 1 | I15: Задание 2 | J15: ИТОГО БАЛЛОВ | K15: МАКСИМАЛЬНЫЙ БАЛЛ | L15: Эффективность участия (%) | M15: Результат (победитель/призер/ участник)
A16: 1 | B16: Л-10-1 | C16: г. Чебоксары | D16: МБОУ "СОШ № 36" г. Чебоксары | E16: 10 | F16: 10 | G16: Богданова Наталия Владимировна | H16: 38 | I16: 15 | J16: =SUM(H16:I16) -> 53 | K16: 60 | L16: =(J16/K16)*100 -> 88.333333 | M16: победитель
A17: 2 | B17: Л-10-2 | C17: г. Чебоксары | D17: МБОУ "СОШ № 36" г. Чебоксары | E17: 10 | F17: 10 | G17: Богданова Наталия Владимировна | H17: 24 | I17: 0 | J17: =SUM(H17:I17) -> 24 | K17: 60 | L17: =(J17/K17)*100 -> 40 | M17: участник
A18: 3 | B18: Л-10-3 | C18: г. Чебоксары | D18: МБОУ "СОШ № 36" г. Чебоксары | E18: 10 | F18: 10 | G18: Богданова Наталия Владимировна | H18: 26 | I18: 0 | J18: =SUM(H18:I18) -> 26 | K18: 60 | L18: =(J18/K18)*100 -> 43.333333 | M18: участник
A19: 4 | B19: Л-10-4 | C19: г. Чебоксары | D19: МБОУ "СОШ № 36" г. Чебоксары | E19: 10 | F19: 10 | G19: Богданова Наталия Владимировна | H19: 22 | I19: 0 | J19: =SUM(H19:I19) -> 22 | K19: 60 | L19: =(J19/K19)*100 -> 36.666667 | M19: участник
B23: Председатель жюри: | C23: ______________ | D23: Богданова Н.В.
B24: Члены жюри: | C24: _______________ | D24: Беляева И.А.
C25: ________________ | D25: Викентьева Е.А.
C26: ________________ | D26: Михайлова И.В.
C27: ________________ | D27: Луговникова С.Г.

Sheet 11 КЛАСС
A3: Протокол школьного этапа этапа всероссийской олимпиады школьников по литературе в 2026-2027 уч.г., 11 класс
A5: Количество участников: 12
A6: Дата проведения: 29.09.2026
A7: Место проведения: г. Чебоксары, МБОУ «СОШ № 36»
A8: Председатель жюри: Богданова Наталия Владимировна, учитель
A9: Члены жюри: Беляева Ирина Андреевна, учитель
A10: Викентьева Елена Анатольевна, учитель
A11: Михайлова Инна Витальевна, учитель
A12: Луговникова Светлана Германовна, заместитель директора
A15: № | B15: Шифр | C15: Город | D15: Наименование ОО (сокращенное наименование по Уставу) | E15: Класс, в котором обучается | F15: Класс, за который выступает | G15: Ф.И.О. наставника (полностью) | H15: ='10 КЛАСС'!H15 -> Задание 1 | I15: ='10 КЛАСС'!I15 -> Задание 2 | J15: ИТОГО БАЛЛОВ | K15: МАКСИМАЛЬНЫЙ БАЛЛ | L15: Эффективность участия (%) | M15: Результат (победитель/призер/ участник)
A16: 1 | B16: Л-11-1 | C16: г. Чебоксары | D16: МБОУ "СОШ № 36" г. Чебоксары | E16: 11 | F16: 11 | G16: Беляева Ирина Андреевна | H16: 38 | I16: 14 | J16: =SUM(H16:I16) -> 52 | K16: 60 | L16: =(J16/K16)*100 -> 86.666667 | M16: победитель
A17: 2 | B17: Л-11-6 | C17: г. Чебоксары | D17: МБОУ "СОШ № 36" г. Чебоксары | E17: 11 | F17: 11 | G17: Беляева Ирина Андреевна | H17: 31 | I17: 14 | J17: =SUM(H17:I17) -> 45 | K17: 60 | L17: =(J17/K17)*100 -> 75 | M17: призер
A18: 3 | B18: Л-11-5 | C18: г. Чебоксары | D18: МБОУ "СОШ № 36" г. Чебоксары | E18: 11 | F18: 11 | G18: Беляева Ирина Андреевна | H18: 16 | I18: 11 | J18: =SUM(H18:I18) -> 27 | K18: 60 | L18: =(J18/K18)*100 -> 45 | M18: участник
A19: 4 | B19: Л-11-10 | C19: г. Чебоксары | D19: МБОУ "СОШ № 36" г. Чебоксары | E19: 11 | F19: 11 | G19: Беляева Ирина Андреевна | H19: 17 | I19: 0 | J19: =SUM(H19:I19) -> 17 | K19: 60 | L19: =(J19/K19)*100 -> 28.333333 | M19: участник
A20: 5 | B20: Л-11-8 | C20: г. Чебоксары | D20: МБОУ "СОШ № 36" г. Чебоксары | E20: 11 | F20: 11 | G20: Беляева Ирина Андреевна | H20: 1 | I20: 9 | J20: =SUM(H20:I20) -> 10 | K20: 60 | L20: =(J20/K20)*100 -> 16.666667 | M20: участник
A21: 6 | B21: Л-11-7 | C21: г. Чебоксары | D21: МБОУ "СОШ № 36" г. Чебоксары | E21: 11 | F21: 11 | G21: Беляева Ирина Андреевна | H21: 0 | I21: 5 | J21: =SUM(H21:I21) -> 5 | K21: 60 | L21: =(J21/K21)*100 -> 8.3333333 | M21: участник
A22: 7 | B22: Л-11-12 | C22: г. Чебоксары | D22: МБОУ "СОШ № 36" г. Чебоксары | E22: 11 | F22: 11 | G22: Беляева Ирина Андреевна | H22: 5 | I22: 0 | J22: =SUM(H22:I22) -> 5 | K22: 60 | L22: =(J22/K22)*100 -> 8.3333333 | M22: участник
A23: 8 | B23: Л-11-4 | C23: г. Чебоксары | D23: МБОУ "СОШ № 36" г. Чебоксары | E23: 11 | F23: 11 | G23: Беляева Ирина Андреевна | H23: 4 | I23: 0 | J23: =SUM(H23:I23) -> 4 | K23: 60 | L23: =(J23/K23)*100 -> 6.6666667 | M23: участник
A24: 9 | B24: Л-11-11 | C24: г. Чебоксары | D24: МБОУ "СОШ № 36" г. Чебоксары | E24: 11 | F24: 11 | G24: Беляева Ирина Андреевна | H24: 0 | I24: 1 | J24: =SUM(H24:I24) -> 1 | K24: 60 | L24: =(J24/K24)*100 -> 1.6666667 | M24: участник
A25: 10 | B25: Л-11-2 | C25: г. Чебоксары | D25: МБОУ "СОШ № 36" г. Чебоксары | E25: 11 | F25: 11 | G25: Беляева Ирина Андреевна | H25: 0 | I25: 0 | J25: =SUM(H25:I25) -> 0 | K25: 60 | L25: =(J25/K25)*100 -> 0 | M25: участник
A26: 11 | B26: Л-11-3 | C26: г. Чебоксары | D26: МБОУ "СОШ № 36" г. Чебоксары | E26: 11 | F26: 11 | G26: Беляева Ирина Андреевна | H26: 0 | I26: 0 | J26: =SUM(H26:I26) -> 0 | K26: 60 | L26: =(J26/K26)*100 -> 0 | M26: участник
A27: 12 | B27: Л-11-9 | C27: г. Чебоксары | D27: МБОУ "СОШ № 36" г. Чебоксары | E27: 11 | F27: 11 | G27: Беляева Ирина Андреевна | H27: 0 | I27: 0 | J27: =SUM(H27:I27) -> 0 | K27: 60 | L27: =(J27/K27)*100 -> 0 | M27: участник
B31: Председатель жюри: | C31: ______________ | D31: Богданова Н.В.
B32: Члены жюри: | C32: _______________ | D32: Беляева И.А.
C33: ________________ | D33: Викентьева Е.А.
C34: ________________ | D34: Михайлова И.В.
C35: ________________ | D35: Луговникова С.Г.
